BEGIN:VCALENDAR
VERSION:2.0
PRODID:-//WP EVENT Manager Ical//NONSGML Events//EN
CALSCALE:GREGORIAN
BEGIN:VTIMEZONE
TZID:Asia/Kolkata
BEGIN:STANDARD
DTSTART:19700101T000000
TZOFFSETFROM:+0530
TZOFFSETTO:+0530
END:STANDARD
END:VTIMEZONE
BEGIN:VEVENT
UID:69ec973ce4ac4@lssh.de
DTSTAMP:20260425T102812Z
DTSTART;TZID=Asia/Kolkata:20250616T103000
DTEND;TZID=Asia/Kolkata:19700101T000000
LOCATION:Schreberweg 10, 24119 Kronshagen
SUMMARY:Fortbildung „Grüner Koffer Prävention“
DESCRIPTION:Entwickelt wurde der „Methodenkoffer Cannabisprävention“ von der ginko Stiftung für Prävention. Unter dem Namen Methodenkoffer „Stark statt breit“ stand er seit April 2018 für Suchtpräventionsfachkräften in Nordrhein-Westfalen zur Verfügung. In 2019 wurde er im Rahmen einer durch die BZgA geförderten Prozessevaluation durch das IFT-Nord auf mögliche Optimierungspotentiale hin überprüft und anschließend überarbeitet. Der nun aktualisierte Koffer firmiert jetzt unter dem Titel „der grüne Koffer“. Das Präventionsmodul ist also bewährt und kein „Überraschungsei“.„Der grüne Koffer“ ist eine Material- und Methodensammlung, die flexibel eingesetzt werden kann. Ziel ist es, über Aspekte rund um Cannabis zu informieren und dazu anzuregen, die eigene Einstellung zu Cannabis zu reflektieren. Die Übungen informieren über körperliche und psychische Auswirkungen des Cannabiskonsums, verdeutlichen die rechtlichen Folgen und hinterfragen die Haltung zu Cannabis. Dabei sollen Anregungen gegeben werden, sich mit Konsummotiven und Konsum auseinanderzusetzen. Der Methodenkoffer richtet sich an Personen im Alter von 14 bis 25 Jahren.Kosten 35,- €Einladung &#8211; grüner Koffer Prävention &#8211; Fortbildung Kiel 16.06.2025
END:VEVENT
END:VCALENDAR