BEGIN:VCALENDAR
VERSION:2.0
PRODID:-//WP EVENT Manager Ical//NONSGML Events//EN
CALSCALE:GREGORIAN
BEGIN:VTIMEZONE
TZID:Asia/Kolkata
BEGIN:STANDARD
DTSTART:19700101T000000
TZOFFSETFROM:+0530
TZOFFSETTO:+0530
END:STANDARD
END:VTIMEZONE
BEGIN:VEVENT
UID:69ecaa8433c0c@lssh.de
DTSTAMP:20260425T115028Z
DTSTART;TZID=Asia/Kolkata:20250528T090000
DTEND;TZID=Asia/Kolkata:19700101T000000
LOCATION:Haßstr. 22, 24103 Kiel
SUMMARY:…irgendwas mit Medien
DESCRIPTION:Der Medienkonsum hat bei Jugendlichen während und aufgrund der Corona-Pandemie deutlich zugenommen. Zugleich ist es in der aktuellen Zeit besonders schwierig, unproblematische Mediennutzung von einer problematischen zu unterscheiden.Leitfrage unseres Fachtages ist: „Welche Rolle spielt Medienpädagogik für die Suchthilfe?“Der spannende Fachtag in der Pumpe wird um 9 Uhr von Manfred Patzer-Bönig eröffnet, Dr. Benjamin Strobel vom IQSH folgt mit einem kurzem Impulsvortrag.Anschließend wird das Team der techagogics ihr Projekt der Deep-fake-Detectives in dem Vormittagsworkshop vorstellen.Alle weiteren infos im Einladungsflyer:Fachtag Medienpädagogik &#8222;..irgendwas mit Medien&#8220;
END:VEVENT
END:VCALENDAR