BEGIN:VCALENDAR
VERSION:2.0
PRODID:-//WP EVENT Manager Ical//NONSGML Events//EN
CALSCALE:GREGORIAN
BEGIN:VTIMEZONE
TZID:Asia/Kolkata
BEGIN:STANDARD
DTSTART:19700101T000000
TZOFFSETFROM:+0530
TZOFFSETTO:+0530
END:STANDARD
END:VTIMEZONE
BEGIN:VEVENT
UID:69ec97da67114@lssh.de
DTSTAMP:20260425T103050Z
DTSTART;TZID=Asia/Kolkata:20250412T090000
DTEND;TZID=Asia/Kolkata:20250413T163000
LOCATION:Max-Johannsen-Brücke 1, 24537 Neumünster
SUMMARY:Präventionsbeauftragter für Anbauvereinigungen
DESCRIPTION:Die Landesstelle für Suchtfragen Schleswig-Holstein e.V. führt für Hamburg und Schleswig-Holstein die gesetzlich vorgeschriebene Schulung nach § 23 Abs 4 KCanG durch.Inhalte des WorkshopsEinstiegRechtliche RahmenbedingungenCannabis: Substanz und RisikenSucht und SuchtentstehungHaltung und RollenverständnisGesundheits- &amp; JugendschutzkonzeptePrävention &amp; FrüherkennungMotivation &amp; InterventionInterventionsketten &amp; Überleitungen in der SuchthilfeAusgabe der TeilnahmebescheinigungenDer dritte Termin findet am 10.05.2025 online statt!Die Teilnahmeplätze sind begrenzt, um eine Anmeldung wird daher gebeten bis zum 04.04.2025.Flyer und Anmeldeformular herunterladen:Einladung &#8211; Curriculum Präventionsbeauftragte NMS_12.,13.April 2025Zusätzlich zu den AGB gelten die Regelungen, die auf dem Flyer genannt werden.
END:VEVENT
END:VCALENDAR